BEGIN:VCALENDAR
PRODID:-//hacksw/handcal//NONSGML v1.0//EN
VERSION:2.0
METHOD:PUBLISH
BEGIN:VEVENT
DTSTART:20140819T163000Z
DTEND:20140819T180000Z
LOCATION:Minnehaha Country Club
UID:1017820140819T163000ZWho Wants This Job? Selection of Trustees and Other Fiduciaries
DTSTAMP:20260423T140857Z
DESCRIPTION:\nWHO WANTS THIS JOB? SELECTION OF TRUSTEES AND OTHER FIDUCIARIES\n \n \n \nThe selection of a fiduciary is very often a decision that does not get anywhere near the attention it deserves. A fiduciary position requires substantial, specialized expertise and the ability to make sober and sound judgments in order to perform at the highest level and to avoid the high risk of liability. The fiduciary is charged with the responsibility of following the terms of the governing instrument and applicable state law while at the same time seeking to maintain a productive, or at least tolerable, relationship with the beneficiaries. This teleconference will focus on the following:\n \n \n Checklist of fiduciary duties Ascertaining who has the ability, judgment and temperament to be a fiduciary Individual fiduciaries versus corporate fiduciaries Tax consequences of fiduciary selection Fiduciary compensation considerations
SUMMARY:Who Wants This Job? Selection of Trustees and Other Fiduciaries - Sioux Falls Estate Planning Council 
PRIORITY:3
BEGIN:VALARM
TRIGGER:PT18H
ACTION:DISPLAY
DESCRIPTION:Reminder
END:VALARM
END:VEVENT
END:VCALENDAR