BEGIN:VCALENDAR
PRODID:-//hacksw/handcal//NONSGML v1.0//EN
VERSION:2.0
METHOD:PUBLISH
BEGIN:VEVENT
DTSTART:20140919T130000Z
DTEND:20140919T170000Z
LOCATION:Ramkota Hotel, Sioux Falls Washington Room
UID:1047120140919T130000ZEstate Planning for Individuals with Disabilities
DTSTAMP:20260423T140718Z
DESCRIPTION:\nAttorney Dudek will explain why planning for folks with disabilities of all ages is complex and present the benefits planners need to consider when working with people with disabilities and their families.  The different types of special needs trusts and/or discretionary trusts for people with disabilities, the pros and cons of each type of trust and drafting tips will be addressed.  Administrative issues related to each of the different types of trusts will be outlined to give planners the ability to determine which option or options best fit the needs of their client/s and examples on how cross-generational planning can be coordinated.  Lastly, this presentation will address hot topic issues and the impact the ACA may be having on planning for people with disabilities.  \n
SUMMARY:Estate Planning for Individuals with Disabilities - Sioux Falls Estate Planning Council 
PRIORITY:3
BEGIN:VALARM
TRIGGER:PT18H
ACTION:DISPLAY
DESCRIPTION:Reminder
END:VALARM
END:VEVENT
END:VCALENDAR