BEGIN:VCALENDAR
PRODID:-//hacksw/handcal//NONSGML v1.0//EN
VERSION:2.0
METHOD:PUBLISH
BEGIN:VEVENT
DTSTART:20141218T173000Z
DTEND:20141218T190000Z
LOCATION:Minnehaha Country Club
UID:1047420141218T173000ZDeferring and Avoiding the Tax on Net Investment Income
DTSTAMP:20260423T141538Z
DESCRIPTION:\nTHOMAS J. PAULOSKI is a National Managing Director in the Wealth Management Group of Bernstein Global Wealth Management, the research division of Bernstein’s Private Client Group. He works with private clients and their advisors on wealth transfer strategies, focusing on tax-efficient wealth management and asset allocation decisions. Previously, Tom was a partner at the Chicago law firm of Winston & Strawn LLP, where he concentrated his practice in estate, tax, and business planning. Tom also has been a member of the Chicago law firm of Levin & Schreder, Ltd., a Vice President in the Private Client Group of Zurich Life in Long Grove, Illinois, and a partner at the Chicago law firm of Schiff Hardin & Waite.\n \nTom is a nationally known speaker on estate planning, tax, and insurance issues, and has written numerous articles and continuing legal education materials on estate planning topics. He serves on the faculty of the American Bankers Association National Trust and National Graduate Trust Schools, and has served on the adjunct faculty of the Cannon Financial Institute Schools. Tom has been an adjunct professor at Loyola University Chicago School of Law and has taught estate planning classes at Northwestern University Law School. Tom also has served on the editorial board of Trusts & Estates magazine. He retired from the United States Naval Reserve in 2003, after 21 years of service.\n \nTom received his bachelor of science degree in environmental engineering from Northwestern University, and his juris doctor, magna cum laude, from Loyola University Chicago School of Law, where he served as editor-in-chief of the Loyola Law Journal.\n \n \n \nTom and his wife of 29 years, Barb, reside in Highland Park, Illinois, with their children, Kathie and Mike.\n
SUMMARY:Deferring and Avoiding the Tax on Net Investment Income - Sioux Falls Estate Planning Council 
PRIORITY:3
BEGIN:VALARM
TRIGGER:PT18H
ACTION:DISPLAY
DESCRIPTION:Reminder
END:VALARM
END:VEVENT
END:VCALENDAR