BEGIN:VCALENDAR
PRODID:-//hacksw/handcal//NONSGML v1.0//EN
VERSION:2.0
METHOD:PUBLISH
BEGIN:VEVENT
DTSTART:20150219T173000Z
DTEND:20150219T190000Z
LOCATION:Minnehaha Country Club
UID:1047620150219T173000ZWhat Clients May Not Know About Social Security - and What it Could Cost Them
DTSTAMP:20260423T140959Z
DESCRIPTION:\nTyler De Haan, MPA, CFP®, ChFC®\n \nDirector of Business Development, Retirement Solutions \n \nPrincipal Funds\n \n \n \nTyler is responsible for developing retirement and income planning initiatives that focus on the technical expertise and training of financial professionals in advance sales concepts. Tyler entered the Financial Service industry in 2004 and joined the Principal Financial Group in 2005. \n \nTyler received his undergraduate degree in Political Science from Northwestern College in Orange City, Iowa and his Master’s in Public Administration with an emphasis in Finance from Drake University in Des Moines, Iowa. \n \nTyler has also obtained and has the right to use the CFP® designation from the CFP Board of Standards and the ChFC® designation from the American College of Financial Planning. He has passed the Series 7, 66, 24, 4 and 53 and life, health and disability license exams, along with the CMFC®, CRPC®, and AAMS ® designations from the College of Financial Planning. \n
SUMMARY:What Clients May Not Know About Social Security - and What it Could Cost Them - Sioux Falls Estate Planning Council 
PRIORITY:3
BEGIN:VALARM
TRIGGER:PT18H
ACTION:DISPLAY
DESCRIPTION:Reminder
END:VALARM
END:VEVENT
END:VCALENDAR