BEGIN:VCALENDAR
PRODID:-//hacksw/handcal//NONSGML v1.0//EN
VERSION:2.0
METHOD:PUBLISH
BEGIN:VEVENT
DTSTART:20150421T170000Z
DTEND:20150421T180000Z
LOCATION:Minnehaha Country Club
UID:1129820150421T170000ZTrust Modification, Decanting and Premature Termination
DTSTAMP:20260423T140718Z
DESCRIPTION:\nSettlors, trustees and beneficiaries may no longer have to live with irrevocable trusts established years ago under circumstances that have unexpectedly evolved. Particularly as a result of the enactment of the Uniform Trust Code and decanting statutes in many states, changing or terminating trusts is becoming almost commonplace. During this teleconference, we will discuss the following issues:\n  \n Does the term "irrevocable trust" still mean anything? Changing a trust's situs and governing law Under what circumstances a trustee may have a duty to modify or decant Can a trust settlor foreclose future modification or decanting of a trust?
SUMMARY:Trust Modification, Decanting and Premature Termination - Sioux Falls Estate Planning Council 
PRIORITY:3
BEGIN:VALARM
TRIGGER:PT18H
ACTION:DISPLAY
DESCRIPTION:Reminder
END:VALARM
END:VEVENT
END:VCALENDAR