BEGIN:VCALENDAR
PRODID:-//hacksw/handcal//NONSGML v1.0//EN
VERSION:2.0
METHOD:PUBLISH
BEGIN:VEVENT
DTSTART:20151117T173000Z
DTEND:20151117T190000Z
LOCATION:Minnehaha Country Club
UID:1130020151117T173000ZRetirement Benefit Planning:  Dealing With the Uncertainties
DTSTAMP:20260423T141653Z
DESCRIPTION:\nRetirement assets often comprise a significant portion (sometimes the majority) of the wealth of clients. Clients rely on their estate planning advisors to determine the most efficacious manner in which to transfer these assets and minimize the taxes arising from them. Among the topics of which we must have a working knowledge are the following: \n \n Funding various kinds of trusts with retirement assets Working with beneficiary designations Rollovers and trustee-to-trustee transfers: Not nearly as simple as you think Using IRAs and qualified retirement plans for charitable giving
SUMMARY:Retirement Benefit Planning:  Dealing With the Uncertainties - Sioux Falls Estate Planning Council 
PRIORITY:3
BEGIN:VALARM
TRIGGER:PT18H
ACTION:DISPLAY
DESCRIPTION:Reminder
END:VALARM
END:VEVENT
END:VCALENDAR