BEGIN:VCALENDAR
PRODID:-//hacksw/handcal//NONSGML v1.0//EN
VERSION:2.0
METHOD:PUBLISH
BEGIN:VEVENT
DTSTART:20150925T133000Z
DTEND:20150925T170000Z
LOCATION:Ramkota Hotel, Sioux Falls - Washington Room
UID:1171920150925T133000ZSD Bar Association CLE on Estate Planning - "Drafting Trusts To Best Express Grantor Intent and Accommodate Flexibility for Future Needs of Beneficiaries"
DTSTAMP:20260423T141728Z
DESCRIPTION:\nR. Hugh Magill is an Executive Vice President of Northern Trust Corporation, Chicago, where he serves as Chief Fiduciary Officer and Global Director of Trust Services. In this capacity he is responsible for Northern’s fiduciary services to clients nationally and internationally.\n\n Prior to joining Northern Trust in September, 1989, Hugh practiced law privately in Chicago, and worked in the Trust Department at The First National Bank of Chicago where he served as Assistant to the Chief Investment Officer.  Magill received a B.A. degree, cum laude, from St. Olaf College in Northfield, Minnesota, and a J.D. degree from the University of Minnesota Law School, where he was named a distinguished alumnus in 2005.\n\n Hugh is a member of the Chicago, Illinois and American Bar Associations, the Chicago Estate Planning Council, and the Christian Legal Society.  He is licensed to practice law in Illinois and Minnesota and admitted to practice before the United States Tax Court.  He is a faculty member of the American Banker’s Association  National Trust School and has lectured for the American College of Trust and Estate Counsel, The Heckerling Institute, The Notre Dame Institute, the Northwestern University Center for Family Enterprise, regional bar associations and estate planning councils, and Northern Trust on estate and charitable planning, trust management, family governance, and fiduciary risk management.\n\n He is a trustee of the Covenant Board of Pensions and Benefits, and he serves on the Boards of the Block Museum of Art, Ministry Mentors, The Chicago Sunday Evening Club, several foundations, and serves as a member of the Dean's Cabinet for the Generations Capital Campaign for the University of Minnesota Law School.  He serves on the Editorial Board of Trusts & Estates magazine, the executive council of the Trust Management Association, and has authored articles for Trust & Estates, Trust & Investments, and Wealth magazines.\n \nhttps://www.northerntrust.com/insights-research/our-experts/wealth-management?c=magill-hugh\n
SUMMARY:SD Bar Association CLE on Estate Planning - "Drafting Trusts To Best Express Grantor Intent and Accommodate Flexibility for Future Needs of Beneficiaries" - Sioux Falls Estate Planning Council 
PRIORITY:3
BEGIN:VALARM
TRIGGER:PT18H
ACTION:DISPLAY
DESCRIPTION:Reminder
END:VALARM
END:VEVENT
END:VCALENDAR