BEGIN:VCALENDAR
PRODID:-//hacksw/handcal//NONSGML v1.0//EN
VERSION:2.0
METHOD:PUBLISH
BEGIN:VEVENT
DTSTART:20160524T163000Z
DTEND:20160524T180000Z
LOCATION:Minnehaha Country Club
UID:1252320160524T163000ZThe Sometimes Complicated World of Charitable Giving
DTSTAMP:20260423T141215Z
DESCRIPTION:\nDo our clients have charitable intent?  Do they realize they have such intent?  Do they have the funds or property available with which to fulfill their charitable giving goals?  Do they know how to structure charitable gifts in a way that will give them maximum personal satisfaction and tax benefits and at the same time confer a real benefit on the charitable donee?  As estate planners, we can be of extraordinary assistance to our clients in successfully resolving these questions.  During this teleconference, we will look at the following:\n \n \n  \nAn overview of tax deductions available for contributions to or for charity\n   \nTrusts and other mechanisms by which to make charitable gifts\n   \nUsing IRA or qualified plan proceeds to fund charitable gifts\n   \nIssues associated with transferring closely-held business interests to charity\n
SUMMARY:The Sometimes Complicated World of Charitable Giving - Sioux Falls Estate Planning Council 
PRIORITY:3
BEGIN:VALARM
TRIGGER:PT18H
ACTION:DISPLAY
DESCRIPTION:Reminder
END:VALARM
END:VEVENT
END:VCALENDAR