BEGIN:VCALENDAR
PRODID:-//hacksw/handcal//NONSGML v1.0//EN
VERSION:2.0
METHOD:PUBLISH
BEGIN:VEVENT
DTSTART:20160823T163000Z
DTEND:20160823T180000Z
LOCATION:Minnehaha Country Club
UID:1252520160823T163000ZAsset Protection Planning Without Going Offshore 
DTSTAMP:20260423T141339Z
DESCRIPTION:\nAsset protection planning is important to an increasingly broad range of clients -- both for themselves as well as for their children.  Creditors are generally more aggressive these days, and more clients are becoming conscious of the potential to wake up one day in a vulnerable financial situation.  Accordingly, a discussion of the advantages of and available mechanisms by which to achieve at least some measure of asset protection should be offered early in the estate planning process.  Many of our clients will be interested in one or more of the following:\n  \nUsing tenancy by the entirety form of ownership\n   \nAsset protection status of qualified retirement plans, IRAs and life insurance proceeds\n   \nAvoiding fraudulent transfers\n   \nSelf-settled trusts (including "qualified spousal trusts") and third party-settled trusts\n
SUMMARY:Asset Protection Planning Without Going Offshore  - Sioux Falls Estate Planning Council 
PRIORITY:3
BEGIN:VALARM
TRIGGER:PT18H
ACTION:DISPLAY
DESCRIPTION:Reminder
END:VALARM
END:VEVENT
END:VCALENDAR