BEGIN:VCALENDAR
PRODID:-//hacksw/handcal//NONSGML v1.0//EN
VERSION:2.0
METHOD:PUBLISH
BEGIN:VEVENT
DTSTART:20161018T163000Z
DTEND:20161018T180000Z
LOCATION:Minnehaha Country Club
UID:1252620161018T163000ZDirected and Delegated Trusts – The Options Available and The Risks Involved
DTSTAMP:20260423T141252Z
DESCRIPTION:\nThe slicing and dicing of trustee roles is becoming common.  The concept of the trust protector or trust advisor, who has the power to direct certain actions by a fiduciary, is now enshrined in the law of many states.  Furthermore, it is possible under many circumstances for a trustee effectively to delegate certain duties (such as investment responsibilities) to a co-trustee or to an agent.  In this teleconference, we will explore the following:\n  \nState laws and governing instrument provisions regarding directed and delegated trusts\n   \nNature of a trust protector and whether he or she is or should be considered a fiduciary\n   \nVarious ways to divide duties and responsibilities of trust administration\n   \nLiability of directed trustees, co-trustees, third-party agents and trust protectors\n
SUMMARY:Directed and Delegated Trusts – The Options Available and The Risks Involved - Sioux Falls Estate Planning Council 
PRIORITY:3
BEGIN:VALARM
TRIGGER:PT18H
ACTION:DISPLAY
DESCRIPTION:Reminder
END:VALARM
END:VEVENT
END:VCALENDAR