BEGIN:VCALENDAR
PRODID:-//hacksw/handcal//NONSGML v1.0//EN
VERSION:2.0
METHOD:PUBLISH
BEGIN:VEVENT
DTSTART:20161206T173000Z
DTEND:20161206T190000Z
LOCATION:Minnehaha Country Club
UID:1252820161206T173000ZNation of Elders: Estate Planning for an Aging Population
DTSTAMP:20260423T141059Z
DESCRIPTION:\nThe rapid growth in the number of Americans over age 65, and ever-increasing life expectancies, dramatically affect the estate planning industry.  Clients and their family members inevitably must deal with emotional and financial issues that may impact relationships and endanger wealth built over a lifetime.  Critical estate planning matters for aging clients and their family members include the following:\n  \nPotential for financial elder abuse\n   \nTestamentary capacity and undue influence\n   \nDesign and efficacy of revocable trusts, durable powers of attorney and advance directives\n   \nLong-term care insurance\n
SUMMARY:Nation of Elders: Estate Planning for an Aging Population - Sioux Falls Estate Planning Council 
PRIORITY:3
BEGIN:VALARM
TRIGGER:PT18H
ACTION:DISPLAY
DESCRIPTION:Reminder
END:VALARM
END:VEVENT
END:VCALENDAR