BEGIN:VCALENDAR
PRODID:-//hacksw/handcal//NONSGML v1.0//EN
VERSION:2.0
METHOD:PUBLISH
BEGIN:VEVENT
DTSTART:20170425T163000Z
DTEND:20170425T180000Z
LOCATION:Minnehaha Country Club
UID:1415720170425T163000ZDesigning and Administering Estate Plans to Minimize Income Tax
DTSTAMP:20260423T141000Z
DESCRIPTION:\nTo the extent our estate planning clients care anymore about planning to reduce taxes to be borne by their survivors, it’s all about income tax. Specifically, it’s about avoiding the compressed income tax brackets and high income tax rates of estates and trusts and achieving a basis step-up for as many assets, and as frequently as possible. During this program, we will look at:\n  \n Refined uses of the Clayton QTIP structure Making distributions of ordinary income and capital gain to carry out DNI Ways to dodge the net investment income tax Using powers of appointment and other strategies to accomplish basis step-up \n \nRegistration will close at 5 pm on Thursday, April 20th.  Please register if you will attend to ensure we have an accurate lunch count.  Thank you!\n \n \n[Register Now](http://www.siouxfallsepc.org/events/register/13223) \n \n \n \n
SUMMARY:Designing and Administering Estate Plans to Minimize Income Tax - Sioux Falls Estate Planning Council 
PRIORITY:3
BEGIN:VALARM
TRIGGER:PT18H
ACTION:DISPLAY
DESCRIPTION:Reminder
END:VALARM
END:VEVENT
END:VCALENDAR