BEGIN:VCALENDAR
PRODID:-//hacksw/handcal//NONSGML v1.0//EN
VERSION:2.0
METHOD:PUBLISH
BEGIN:VEVENT
DTSTART:20171205T173000Z
DTEND:20171205T190000Z
LOCATION:Minnehaha Country Club
UID:1416120171205T173000ZTrying Too Hard to Do Too Much: Ethics Traps For the Good Samaritan
DTSTAMP:20260423T141216Z
DESCRIPTION:\nNot all charges of breaches of professional ethics result from consciously attempting to cut corners, take advantage of a situation, extract excessive fees or treat someone unfairly. In fact, an ethics complaint may arise out of facts showing the respondent was striving to provide a laudatory level of service. During this program, we will look at issues that may develop from:\n  \n Concurrent representation of spouses and other family members Planning for a client’s possible eventual incapacity Safekeeping of a client’s estate planning documents Disclosure of a disabled client’s confidential information \nRegistration will close at 5 pm on Thursday, November 30th.  Please register if you will attend to ensure we have an accurate lunch count.  Thank you!\n
SUMMARY:Trying Too Hard to Do Too Much: Ethics Traps For the Good Samaritan - Sioux Falls Estate Planning Council 
PRIORITY:3
BEGIN:VALARM
TRIGGER:PT18H
ACTION:DISPLAY
DESCRIPTION:Reminder
END:VALARM
END:VEVENT
END:VCALENDAR