BEGIN:VCALENDAR
PRODID:-//hacksw/handcal//NONSGML v1.0//EN
VERSION:2.0
METHOD:PUBLISH
BEGIN:VEVENT
DTSTART:20170922T130000Z
DTEND:20170922T180000Z
LOCATION:
UID:1458720170922T130000ZJoint Meeting with South Dakota State Bar
DTSTAMP:20260423T140931Z
DESCRIPTION:\n“Income and Estate Tax Planning for the 99%” \n \nThis presentation will cover topics of tax reform updates, draw down strategies, IRAs, and portability.\n \nAbout the Presenter:\n \nRobert S. Keebler, CPA/PFS, MST, AEP (Distinguished), CGMA is a partner with Keebler & Associates, LLP and the current chairman of the AICPA Advanced Estate Planning Conference. In 2007 he was inducted into the Estate Planning Hall of Fame of National Association of Estate Planners & Councils. He has also been named by CPA Magazine as one of the Top 100 Most Influential Practitioners in the United States and one of the Top 40 Tax Advisors to Know During a Recession.\n \nHis practice includes family wealth transfer and preservation planning, charitable giving, retirement distribution planning, and estate administration. Mr. Keebler frequently represents clients before the National Office of the Internal Revenue Service (IRS) in the private letter ruling process and in estate, gift and income tax examinations and appeals, and he has received more than 200 favorable private letter rulings including several key rulings of “first impression”. He is the author of over 100 articles and columns and is the editor, author or co-author of many books and treatises on wealth transfer and taxation.\n \nMr. Keebler has been a speaker at national estate planning and tax seminars for over 20 years including the AICPA’s: Estate Planning, High Income, Advanced Financial Planning Conferences, ABA Conferences, NAPEC Conferences, The Notre Dame Estate Planning Conference and the Heckerling Estate Planning Institute.\n \nPlease register on the State Bar Website at:\n \nhttp://www.statebarofsouthdakota.com/p/cm/ld/fid=208\n
SUMMARY:Joint Meeting with South Dakota State Bar - Sioux Falls Estate Planning Council 
PRIORITY:3
BEGIN:VALARM
TRIGGER:PT18H
ACTION:DISPLAY
DESCRIPTION:Reminder
END:VALARM
END:VEVENT
END:VCALENDAR