BEGIN:VCALENDAR
PRODID:-//hacksw/handcal//NONSGML v1.0//EN
VERSION:2.0
METHOD:PUBLISH
BEGIN:VEVENT
DTSTART:20171019T163000Z
DTEND:20171019T180000Z
LOCATION:Minnehaha Country Club
UID:1458820171019T163000ZGuaranteed and Non-Guaranteed Funeral Trusts
DTSTAMP:20260423T141847Z
DESCRIPTION:\nJeff will be speaking on the application of Guaranteed and Non-Guaranteed Funeral Trusts, as well as assignment of benefits.\n \nAbout the Speaker:\n \nJeff Gould\n \nJeff Gould has been the Sales Manager of the Care Group since 2003, which handles the pre-planning and pre-funding of funerals for George Boom Funeral Home and Miller Funeral Home in Sioux Falls.\n \nPrior to that he was an Advertising Executive in the radio broadcast industry and a radio personality in a career that ran from 1985 to 2003.\n \nHe currently serves on several charitable boards in the community, and is the host of the syndicated radio program “A Prairie Christmas”, which can be heard on over 40 radio stations throughout the region as well as in Sioux Falls.\n \nHe is also writes crime fiction under the pen name JJ Gould and is a featured lecturer and speaker at many area venues.\n \nHe is a past South Dakota Broadcaster of the Year, Distinguished Sales and Marketing Award winner, Staples Invention Quest finalist, Addy Award winner, participant in the Sioux Empire Community Theatre and ghost writer for 6 newsletters.\n \nHe and his wife Libby (the choir director at Harrisburg Middle and High School) have four daughters (age 19 to 27) and a 130-year-old house that keep them busy.\n \nRegistration will close at 5 pm on Thursday, October 12th.  Please register if you will attend to ensure we have an accurate lunch count.  Thank you!\n
SUMMARY:Guaranteed and Non-Guaranteed Funeral Trusts - Sioux Falls Estate Planning Council 
PRIORITY:3
BEGIN:VALARM
TRIGGER:PT18H
ACTION:DISPLAY
DESCRIPTION:Reminder
END:VALARM
END:VEVENT
END:VCALENDAR