BEGIN:VCALENDAR
PRODID:-//hacksw/handcal//NONSGML v1.0//EN
VERSION:2.0
METHOD:PUBLISH
BEGIN:VEVENT
DTSTART:20180215T173000Z
DTEND:20180215T190000Z
LOCATION:Minnehaha Country Club
UID:1459120180215T173000ZProtection Strategies for Business Owners
DTSTAMP:20260423T141252Z
DESCRIPTION:\n\n \nMichael J. Sir, RHU\nDisability Income Regional Vice-President\nPrincipal Financial Group®\n  \n \nMike joined Principal Life Insurance Company in 1997 as the Disability Income Regional Vice President (DI RVP) covering the states of Minnesota, South Dakota, North Dakota and western Wisconsin.  Mike focuses on disability planning for small and mid-size companies helping financial advisors solve their client’s disability planning needs.\n \nMike has more than 30 years of experience in the Disability Insurance Industry with a focus on Comprehensive Disability Planning for Business Owners and Key Employees.\n \nMike has been a member of the National Association of Insurance and Financial Advisors since 1986.  Mike is an 8-time Principal Life Recognition Circle qualifier and a member of the International DI Society.\n \nMike graduated from Winona State University in Winona, Minnesota, with a Bachelor's degree in Business Administration: Marketing and Business Law. He lives in Eden Prairie, MN with two of his three daughters and his 115 lb. Alaskan Malamute named Dakota (aka “The Wolf”) and the new addition to the family “Ollie” a miniature Sheepadoodle. \n \n \n \nRegistration will close at 5 pm on Monday, February 12th.  Please register if you will attend.  Thank you!\n
SUMMARY:Protection Strategies for Business Owners - Sioux Falls Estate Planning Council 
PRIORITY:3
BEGIN:VALARM
TRIGGER:PT18H
ACTION:DISPLAY
DESCRIPTION:Reminder
END:VALARM
END:VEVENT
END:VCALENDAR