BEGIN:VCALENDAR
PRODID:-//hacksw/handcal//NONSGML v1.0//EN
VERSION:2.0
METHOD:PUBLISH
BEGIN:VEVENT
DTSTART:20180123T173000Z
DTEND:20180123T190000Z
LOCATION:Minnehaha Country Club
UID:1558020180123T173000ZDesigning Estate Plans to Withstand Challenges
DTSTAMP:20260423T135927Z
DESCRIPTION:\n \n \nMost estate plans are implemented without impediment. Depending, however, on the client's age and virility,\n \nfamily dynamics, the nature and value of assets to be disposed of and other factors, estate settlement may be\n \narduous, contentious and expensive. Where difficulties are anticipated, provisions may be included in wills and trust\n \ninstruments to prevent or dissuade frivolous or vengeful attacks on the plan. We will explore the following specifics:\n \n• Marital and cohabitation agreements\n \n• Mediation and arbitration provisions\n \n• Drafting and enforcing no contest clauses\n \n• Limitations on disclosure of information to beneficiaries\n \n \n \nRegistration will close at 5 pm on Thursday, Janaury 18th.  Please register if you will attend to ensure we have an accurate lunch count.  Thank you!\n \n \n
SUMMARY:Designing Estate Plans to Withstand Challenges - Sioux Falls Estate Planning Council 
PRIORITY:3
BEGIN:VALARM
TRIGGER:PT18H
ACTION:DISPLAY
DESCRIPTION:Reminder
END:VALARM
END:VEVENT
END:VCALENDAR