BEGIN:VCALENDAR
PRODID:-//hacksw/handcal//NONSGML v1.0//EN
VERSION:2.0
METHOD:PUBLISH
BEGIN:VEVENT
DTSTART:20180424T163000Z
DTEND:20180424T180000Z
LOCATION:Minnehaha Country Club
UID:1558220180424T163000ZDevelopments in Trust and Estate Administration and Fiduciary Liability
DTSTAMP:20260423T140903Z
DESCRIPTION:\n \n \nTo be successful consistently, a fiduciary must have the skills and temperament to navigate turbulent waters with a\n \nsteady hand. Fiduciaries frequently face risks and challenges from three, often conflicting, sources: the governing\n \ninstrument; applicable state and federal law; and the beneficiaries. We will tackle issues emanating from all three of\n \nthese sources, they include:\n \n• Areas of greatest hazard for fiduciaries\n \n• Beneficiaries' consents, waivers and releases\n \n• Statutes of limitations for bringing claims against fiduciaries\n \n• Lawyer liability that may arise from advising beneficiaries or fiduciaries\n
SUMMARY:Developments in Trust and Estate Administration and Fiduciary Liability - Sioux Falls Estate Planning Council 
PRIORITY:3
BEGIN:VALARM
TRIGGER:PT18H
ACTION:DISPLAY
DESCRIPTION:Reminder
END:VALARM
END:VEVENT
END:VCALENDAR