BEGIN:VCALENDAR
PRODID:-//hacksw/handcal//NONSGML v1.0//EN
VERSION:2.0
METHOD:PUBLISH
BEGIN:VEVENT
DTSTART:20181023T163000Z
DTEND:20181023T180000Z
LOCATION:Minnehaha Country Club
UID:1558420181023T163000ZIncome Tax Considerations in Estate Planning and Estate and Trust Administration
DTSTAMP:20260423T141209Z
DESCRIPTION:\n \n \nThe current tax environment requires particular focus on income tax issues that arise in drafting and planning as well\n \nas in trust and estate administration. Specifically, avoiding compressed tax brackets and facilitating basis step-up is\n \noften critically important. We should regularly consider the following in our practices:\n \n• Benefits and detriments of grantor versus nongrantor trusts\n \n• Options to achieve basis step-up\n \n• Minimizing trust-level income taxes\n \n• Costs subject to the two-percent floor under IRC § 67(e)\n \n \n \nRegistration will close at 5 pm on Thursday, October 18th.  Please register if you will attend to ensure we have an accurate lunch count.  Thank you!\n
SUMMARY:Income Tax Considerations in Estate Planning and Estate and Trust Administration - Sioux Falls Estate Planning Council 
PRIORITY:3
BEGIN:VALARM
TRIGGER:PT18H
ACTION:DISPLAY
DESCRIPTION:Reminder
END:VALARM
END:VEVENT
END:VCALENDAR