BEGIN:VCALENDAR
PRODID:-//hacksw/handcal//NONSGML v1.0//EN
VERSION:2.0
METHOD:PUBLISH
BEGIN:VEVENT
DTSTART:20180126T143000Z
DTEND:20180126T160000Z
LOCATION:Minnehaha Country Club
UID:1578320180126T143000ZCongressional Update
DTSTAMP:20260423T141059Z
DESCRIPTION:\nPlease RSVP if you will attend by Monday, Janaury 22nd at 5:00 pm.\n \nThe board has been working closely with Senator Thune's office and we're pleased to announce that the Senator is planning to provide a congressional update on Friday, January 26th at Minnehaha Country Club. The event will begin with a continental breakfast and registration at 8:30 am. The Senator will begin his remarks at 9:00 am.\n \nAs we know, the Senator's schedule and winter weather can cause plans to change, so we ask that you stay alert to messages regarding this event. He is not scheduled to fly in to Sioux Falls until late Thursday night, so if he would be delayed or the vote schedule would change in Washington, we may not be able to communicate an event change until late Thursday night or even early Friday morning.\n \n \n \nWe are excited to be able to host the Senator for this special event and after the unfortunate cancellation, he has made it a priority to reschedule this event with the council.\n
SUMMARY:Congressional Update - Sioux Falls Estate Planning Council 
PRIORITY:3
BEGIN:VALARM
TRIGGER:PT18H
ACTION:DISPLAY
DESCRIPTION:Reminder
END:VALARM
END:VEVENT
END:VCALENDAR