BEGIN:VCALENDAR
PRODID:-//hacksw/handcal//NONSGML v1.0//EN
VERSION:2.0
METHOD:PUBLISH
BEGIN:VEVENT
DTSTART:20181213T173000Z
DTEND:20181213T190000Z
LOCATION:Minnehaha Country Club
UID:1623120181213T173000ZLong Term Care Planning Strategies
DTSTAMP:20260423T140541Z
DESCRIPTION:\nDenise Gott MBA, CLTC\n \nDenise has 20 years of experience in long term care insurance planning and currently serves as CEO of ACSIA Partners.  She began her career in LTC as an agent in the field, selling individual and multi-life LTC plans as well as operating her own brokerage agency. \n \nDenise has been instrumental in the development of the Worksite Division for ACSIA Partners, which focuses on education and implementation of LTC plans in the workplace.  She is a certified continuing education instructor and has contributed to dozens of media publications and promotions about long term care, including the Lifetime Network and CNN Radio. Denise is also a contributor to the many editions of the Dignity for Life book.\n \nDenise earned a BS and MBA from Bowling Green State University. She holds a Certification in Long-Term Care (CLTC), and is past President of the Cleveland Chapter of the National Association of Insurance & Financial Advisors (NAIFA), as well as NAHU Florida.  She splits her time between Cleveland, Ohio and Fort Myers, Florida.\n \nRegistration will close at 5 pm on Monday, December 10th.  Please register if you will attend to ensure we have an accurate lunch count.  As a note....the annual turkey dinner with all of the trimmings will be served!  Thank you!\n
SUMMARY:Long Term Care Planning Strategies - Sioux Falls Estate Planning Council 
PRIORITY:3
BEGIN:VALARM
TRIGGER:PT18H
ACTION:DISPLAY
DESCRIPTION:Reminder
END:VALARM
END:VEVENT
END:VCALENDAR