BEGIN:VCALENDAR
PRODID:-//hacksw/handcal//NONSGML v1.0//EN
VERSION:2.0
METHOD:PUBLISH
BEGIN:VEVENT
DTSTART:20190920T130000Z
DTEND:20190920T180000Z
LOCATION:Ramkota Hotel
UID:1780620190920T130000ZJoint Meeting with South Dakota State Bar
DTSTAMP:20260423T140930Z
DESCRIPTION:\n[](https://statebar.typeform.com/to/gruBTa)\n
SUMMARY:Joint Meeting with South Dakota State Bar - Sioux Falls Estate Planning Council 
PRIORITY:3
BEGIN:VALARM
TRIGGER:PT18H
ACTION:DISPLAY
DESCRIPTION:Reminder
END:VALARM
END:VEVENT
END:VCALENDAR