BEGIN:VCALENDAR
PRODID:-//hacksw/handcal//NONSGML v1.0//EN
VERSION:2.0
METHOD:PUBLISH
BEGIN:VEVENT
DTSTART:20191121T173000Z
DTEND:20191121T190000Z
LOCATION:Minnehaha Country Club
UID:1780820191121T173000ZSocial Media Traps
DTSTAMP:20260424T080333Z
DESCRIPTION:\n \n \nWhen 20% of married couples today met online, when 40% of millennial social media users report checking on their social media sites before getting out of bed in the morning, when the President, presidential candidates, and octogenarian Rupert Murdoch use Twitter, and when almost every business has a presence on social media, there can be no doubt that social media permeates society. No person or company engaged in estate planning can afford to ignore social media; however, social media usage raises a host of ethical issues, ranging from claims of being inadvertently engaged in the unlawful practice of law because of social media posts to “screening” potential employees by looking at their social media sites to “friending” an adverse party to First Amendment rights. Nationally known speaker Mike Rubin will challenge your thinking, raise issues to ponder, and give you something to smile about with his unique blend of scholarship and humor combined with one of the most unusual multimedia presentations you’ll ever experience.\n \nRegistration will close at 5 pm on Monday, November 18th.  Please register if you will attend to ensure we have an accurate lunch count.  Thank you!\n \n \n \nAbout the Speaker:\n \nMike Rubin is one of the leaders of the multi-state law firm of McGlinchey Stafford PLLC and a nationallyknown speaker who has given over 450 major presentations across the country as well as in Canada and England. He is a past president of the American College of Real Estate Lawyers, the Bar Association of the United States Fifth Circuit Court of Appeals, and the Louisiana State Bar Association.\n \nMike’s numerous publications on finance and lending have been cited as authoritative by state and federal courts, and he has won the Burton Award at the Library of Congress for outstanding legal writing. His articles on ethics are used in law schools.\n \nMike is a Life Member of the American Law Institute, a Commissioner on the Uniform Law Commission, and a member of the American Bar Association’s Standing Committee on Ethics and Professionalism. With his wife, Ayan, he also is the author of two award-winning legal thrillers.\n \n \n \n \n \n \n \n \n \n \n \n \n \n \n \n \n \n \n \n \n \n \n \n \n
SUMMARY:Social Media Traps - Sioux Falls Estate Planning Council 
PRIORITY:3
BEGIN:VALARM
TRIGGER:PT18H
ACTION:DISPLAY
DESCRIPTION:Reminder
END:VALARM
END:VEVENT
END:VCALENDAR