BEGIN:VCALENDAR
PRODID:-//hacksw/handcal//NONSGML v1.0//EN
VERSION:2.0
METHOD:PUBLISH
BEGIN:VEVENT
DTSTART:20200225T173000Z
DTEND:20200225T190000Z
LOCATION:Minnehaha Country Club
UID:1897920200225T173000ZMathematics and Economics of Estate Planning
DTSTAMP:20260423T140628Z
DESCRIPTION:\nRegistration will close at 5 pm on Wednesday, February 19th.  Please register if you will attend to ensure we have an accurate lunch count.  Thank you!\n \nWith the looming sunset of many of the provisions enacted as part of the 2017 Tax Act, high net worth individuals and families should be considering sale, gift or loan transactions currently or in the near future. To distinguish ourselves and make clients comfortable with our recommendations, we need to have a thorough understanding of how to calculate the potential benefits of any proposed transaction and convincingly explain our recommendations to clients. The following scenarios will be discussed during this teleconference:\n Taking Advantage of the Increased Applicable Exclusion Amount, Including the Benefits of Portability The Importance of Life Expectancy in Determining the Appropriate Transaction Analysis of the Benefit of a Grantor’s Paying the Income Tax Incurred by a Grantor Trust Taking Into Consideration Basis Step-Up When Analyzing Gifting Alternatives
SUMMARY:Mathematics and Economics of Estate Planning - Sioux Falls Estate Planning Council 
PRIORITY:3
BEGIN:VALARM
TRIGGER:PT18H
ACTION:DISPLAY
DESCRIPTION:Reminder
END:VALARM
END:VEVENT
END:VCALENDAR