BEGIN:VCALENDAR
PRODID:-//hacksw/handcal//NONSGML v1.0//EN
VERSION:2.0
METHOD:PUBLISH
BEGIN:VEVENT
DTSTART:20200922T163000Z
DTEND:20200922T180000Z
LOCATION:Minnehaha Country Club
UID:1898220200922T163000ZMoving the Needle With Your Clients’ Retirement Asset Planning
DTSTAMP:20260423T141227Z
DESCRIPTION:\n \n \nThis will be the first in-person meeting of the council during this program year. We look forward to greeting you!\n \nThere is a limit of 50 attendees for this event. Attendees must pre-register.\n \nIf you do not feel well, or have been exposed to Covid, we ask that you stay home and attend the live webinar.\n \nMeeting Protocol Information:\n All SFEPC members will be required to pre-register. Since spots are limited, please be courteous to other members and cancel your registration if a conflict arises. SFEPC members will be given priority when registering. Guests will be included only if space allows. A plated meal will be served by Minnehaha Country Club staff. Their staff will be masked and is required to complete a daily screening prior to work. Seating will be 4 people per round table. Attendees are encouraged to wear masks when not eating. The program will also be offered for you to stream at your home or office. If you are not feeling well, or are not comfortable attending in person, please register to attend the live webinar which begins at NOON. A registration link will be provided to members.  \nPlease Note: An inherent risk of exposure to COVID-19 exists in any public place where people are present.  COVID-19 is an extremely contagious disease that can lead to severe illness and death.  According to the Centers for Disease Control and Prevention, senior citizens and guests with underlying medical conditions are especially vulnerable.\n \n \n \nAbout the Program:\n \nThe disposition of retirement assets remains a very common concern among our clients. Rich, poor or in between, just about everyone needs guidance on preserving and managing these assets in a tax-efficient manner. We owe it to our clients to possess and maintain a high degree of expertise concerning these issues. Areas in which special expertise is required include the following:\n Taxation and Distribution Rules for IRAs and Qualified Plans Roth Conversions Using IRAs and Qualified Retirement Plans for Charitable Giving Asset Protection for Retirement Assets
SUMMARY:Moving the Needle With Your Clients’ Retirement Asset Planning - Sioux Falls Estate Planning Council 
PRIORITY:3
BEGIN:VALARM
TRIGGER:PT18H
ACTION:DISPLAY
DESCRIPTION:Reminder
END:VALARM
END:VEVENT
END:VCALENDAR