BEGIN:VCALENDAR
PRODID:-//hacksw/handcal//NONSGML v1.0//EN
VERSION:2.0
METHOD:PUBLISH
BEGIN:VEVENT
DTSTART:20200918T133000Z
DTEND:20200918T170000Z
LOCATION:Virtual Event
UID:1945620200918T133000ZJoint Meeting with South Dakota State Bar
DTSTAMP:20260423T140858Z
DESCRIPTION:\nRETIREMENT ACCOUNTS: PLANNING FOR INHERITED ACCOUNTS AND FOR MARITAL RIGHTS\n\n The SECURE Act eliminated the “stretch IRA” for inherited retirement accounts.  This session will explain the new rules and various planning strategies that can reduce taxes and thereby increase benefits for both family and charity.  In addition, the session will examine the legal rights that one spouse has in the other spouse’s retirement assets.  The rules for 401(k) plans are different than those for IRAs.  What are each spouse’s rights?  What arrangements and strategies can avoid unpleasant surprises?\n \nPresented by Christopher Hoyt, University of Missouri School of Law\n \nRegister through the SD Bar at: https://register.gotowebinar.com/register/8457079910957965072\n \n \n \nA special thank you to The First National Bank in Sioux Falls for sponsoring this event!\n \n\n \n \n \n \n \n \n \n \n \n \n
SUMMARY:Joint Meeting with South Dakota State Bar - Sioux Falls Estate Planning Council 
PRIORITY:3
BEGIN:VALARM
TRIGGER:PT18H
ACTION:DISPLAY
DESCRIPTION:Reminder
END:VALARM
END:VEVENT
END:VCALENDAR