BEGIN:VCALENDAR
PRODID:-//hacksw/handcal//NONSGML v1.0//EN
VERSION:2.0
METHOD:PUBLISH
BEGIN:VEVENT
DTSTART:20210525T163000Z
DTEND:20210525T180000Z
LOCATION:Minnehaha Country Club
UID:2040320210525T163000ZTrust Situs and Governing Law Considerations
DTSTAMP:20260422T102118Z
DESCRIPTION:\n \n \nRegistration for in-person attendance will close at 5 pm on Thursday, May 20th.   \n \n \nThere is a wide variety of trust laws among the states and the District of Columbia with their respective good and bad aspects – depending on one's point of view. Estate planning professionals need to be cognizant of the fact that a trust's situs and governing law, whether as originally established or later validly changed, will often have significant impact on how certain language in the trust instrument is interpreted, how the trust is administered and the extent to which the trust's objectives are able to be achieved. This teleconference will highlight:\n  \n The Meaning of "Situs" and "Principal Place of Administration" Specific Results That May Flow from a Trust's Situs and Its Governing Law Selecting or Determining a Trust's Governing Law and Situs Establishing a Trust in a Target Jurisdiction or Moving it to a Target Jurisdiction \n \n
SUMMARY:Trust Situs and Governing Law Considerations - Sioux Falls Estate Planning Council 
PRIORITY:3
BEGIN:VALARM
TRIGGER:PT18H
ACTION:DISPLAY
DESCRIPTION:Reminder
END:VALARM
END:VEVENT
END:VCALENDAR