BEGIN:VCALENDAR
PRODID:-//hacksw/handcal//NONSGML v1.0//EN
VERSION:2.0
METHOD:PUBLISH
BEGIN:VEVENT
DTSTART:20221025T163000Z
DTEND:20221025T180000Z
LOCATION:Minnehaha Country Club
UID:2192020221025T163000ZLegitimate and Effective Asset Protection Planning 
DTSTAMP:20260423T140623Z
DESCRIPTION:\nThis event will be offered live in person at the Minnehaha Country Club or virtually from your home/office. A recording will not be available. \n \nA buffet lunch will be served starting at 11:30 am. The webinar begins at noon.\n \nRegistration will close at 5 pm on Thursday, October 20th.  \n \nAbout the Program\n \nAsset protection planning is important to an increasingly broad range of clients – both for themselves and for their children. Creditors seem to be more aggressive these days, and more clients are becoming conscious of their potential to wake up one day in a vulnerable financial situation. Estate planners should offer their clients the opportunity to discuss, early in the estate planning process, the advantages of and available techniques by which to secure at least some measure of asset protection. This teleconference will focus on the following:\n Avoiding Fraudulent or Voidable Transfers Using Tenancy by the Entireties Form of Ownership Protected Status of Qualified Retirement Plans, IRAs and Life Insurance Trusts – Including Self-Settled Trusts, Certain Joint Trusts and Third Party-Settled Trusts
SUMMARY:Legitimate and Effective Asset Protection Planning  - Sioux Falls Estate Planning Council 
PRIORITY:3
BEGIN:VALARM
TRIGGER:PT18H
ACTION:DISPLAY
DESCRIPTION:Reminder
END:VALARM
END:VEVENT
END:VCALENDAR