BEGIN:VCALENDAR
PRODID:-//hacksw/handcal//NONSGML v1.0//EN
VERSION:2.0
METHOD:PUBLISH
BEGIN:VEVENT
DTSTART:20220125T173000Z
DTEND:20220125T190000Z
LOCATION:Minnehaha Country Club
UID:2199020220125T173000ZSocial Security Considerations in Estate Planning
DTSTAMP:20260423T140503Z
DESCRIPTION:\nSpeaker:\n \nSophia Duffy, JD, CPA, and Stephen B. Parrish, JD, RICP®, CLU®, ChFC®, AEP®\n \n \n \nThis event will only be offered live at the Minnehaha Country Club. No virtual option or recording will be available.\n \n \n \nRegistration for in-person attendance will close at 5 pm on Thursday, January 20th.  \n \nIf you do not feel well, or have been exposed to Covid, we ask that you stay home and join us at the next event.\n
SUMMARY:Social Security Considerations in Estate Planning - Sioux Falls Estate Planning Council 
PRIORITY:3
BEGIN:VALARM
TRIGGER:PT18H
ACTION:DISPLAY
DESCRIPTION:Reminder
END:VALARM
END:VEVENT
END:VCALENDAR