BEGIN:VCALENDAR
PRODID:-//hacksw/handcal//NONSGML v1.0//EN
VERSION:2.0
METHOD:PUBLISH
BEGIN:VEVENT
DTSTART:20220222T173000Z
DTEND:20220222T190000Z
LOCATION:Minnehaha Country Club
UID:2199120220222T173000ZPlanning for Business Owners and Trusts in Light of Changing Income Tax Rates
DTSTAMP:20260423T135703Z
DESCRIPTION:\nSpeaker:\n \nSteven B. Gorin, JD, CPA, CGMA®, AEP® (Distinguished)\n \n \n \nThis event will only be offered live at the Minnehaha Country Club. No virtual option or recording will be available.\n \n \n \nRegistration for in-person attendance will close at 5 pm on Thursday, February 17th.  \n \nIf you do not feel well, or have been exposed to Covid, we ask that you stay home and join us at the next event.\n
SUMMARY:Planning for Business Owners and Trusts in Light of Changing Income Tax Rates - Sioux Falls Estate Planning Council 
PRIORITY:3
BEGIN:VALARM
TRIGGER:PT18H
ACTION:DISPLAY
DESCRIPTION:Reminder
END:VALARM
END:VEVENT
END:VCALENDAR