BEGIN:VCALENDAR
PRODID:-//hacksw/handcal//NONSGML v1.0//EN
VERSION:2.0
METHOD:PUBLISH
BEGIN:VEVENT
DTSTART:20220322T163000Z
DTEND:20220322T180000Z
LOCATION:Minnehaha Country Club
UID:2199220220322T163000ZTax-Smart Charitable Giving, Especially with Retirement Assets
DTSTAMP:20260423T135627Z
DESCRIPTION:\nSpeaker:\n \nChristopher R. Hoyt, JD, AEP® (Distinguished) \n \n \n \nThis event will only be offered in person at the Minnehaha Country Club. No virtual option or recording will be available. \n \nA buffet lunch will be served starting at 11:30 am. The webinar begins at noon. \n \n \nRegistration will close at 5 pm on Thursday, March 17th.  \n \nIf you do not feel well, or have been exposed to Covid, we ask that you stay home and join us at the next event.\n
SUMMARY:Tax-Smart Charitable Giving, Especially with Retirement Assets - Sioux Falls Estate Planning Council 
PRIORITY:3
BEGIN:VALARM
TRIGGER:PT18H
ACTION:DISPLAY
DESCRIPTION:Reminder
END:VALARM
END:VEVENT
END:VCALENDAR