BEGIN:VCALENDAR
PRODID:-//hacksw/handcal//NONSGML v1.0//EN
VERSION:2.0
METHOD:PUBLISH
BEGIN:VEVENT
DTSTART:20220505T213000Z
DTEND:20220505T230000Z
LOCATION:JJ's Wine, Spirits & Cigars – Event Room
UID:2242120220505T213000ZSFEPC Networking Social
DTSTAMP:20260423T140627Z
DESCRIPTION:\n \n \nPlease join us for a fun SFEPC networking event on Cinco de Mayo!\n \n Thursday May 5, 2022\n \n4:30 – 6:00 pm\n \nJJ's Wine, Spirits & Cigars – Event Room\n \n3000 W 57th St, Sioux Falls, SD 57108\n \n \n \nHor d'oeuvres & Beverages will be served\n \nPlease invite prospective council members to join us and learn more about our council.\n \n \n \nPrizes!\n \nThe council will be giving away prizes for SFEPC members who are in attendance. Must be present to win.\n \n TWO all-expense paid trips (includes registration, hotel and airfare) to the 59th Annual NAEPC \n Advanced Estate Planning Strategies Conference in Ft. Lauderdale, Florida, November 15-18, 2022.\n \n FIVE Conference Registrations for the the 59th Annual NAEPC \n Advanced Estate Planning Strategies Conference in Ft. Lauderdale, Florida, November 15-18, 2022.\n \n \n \nWe will also be discussing the benefits of and details for obtaining the AEP designation. The council will cover the fee for all new, council-sponsored AEP members in 2022.  [More information on the AEP designation can be found here.](https://www.naepc.org/designations/estate-planners) If you are interested, or have questions, please let Angie or any of the board members know.\n
SUMMARY:SFEPC Networking Social - Sioux Falls Estate Planning Council 
PRIORITY:3
BEGIN:VALARM
TRIGGER:PT18H
ACTION:DISPLAY
DESCRIPTION:Reminder
END:VALARM
END:VEVENT
END:VCALENDAR