BEGIN:VCALENDAR
PRODID:-//hacksw/handcal//NONSGML v1.0//EN
VERSION:2.0
METHOD:PUBLISH
BEGIN:VEVENT
DTSTART:20230221T173000Z
DTEND:20230221T191500Z
LOCATION:Minnehaha Country Club
UID:2354620230221T173000ZThe Intersection of Exceptional Estate Planning and Bad Trust Administration
DTSTAMP:20260423T141109Z
DESCRIPTION:\nThis event will be offered in person at the Minnehaha Country Club or virtually from your home/office. \n \nA buffet lunch will be served starting at 11:30 am. The webinar begins at noon.\n \nRegistration will close at 5 pm on Thursday, February 16th.  \n \nIt’s possible to have a superb estate plan in concept, including state-of-the-art estate planning documents, only to have defective fiduciary administration cause components of the plan to short circuit or, in some cases, cause the whole plan to explode in flames. The results may range from loss of expected tax status or benefits to diversion of trust assets. In this session, we’ll consider the importance of:\n Following governing instrument mandates to the letter Exercising dispositive and investment discretion with care and sensitivity Designating fiduciaries with expertise, experience and integrity A Trustee’s developing cooperative and informative relationships with beneficiaries
SUMMARY:The Intersection of Exceptional Estate Planning and Bad Trust Administration - Sioux Falls Estate Planning Council 
PRIORITY:3
BEGIN:VALARM
TRIGGER:PT18H
ACTION:DISPLAY
DESCRIPTION:Reminder
END:VALARM
END:VEVENT
END:VCALENDAR