BEGIN:VCALENDAR
PRODID:-//hacksw/handcal//NONSGML v1.0//EN
VERSION:2.0
METHOD:PUBLISH
BEGIN:VEVENT
DTSTART:20230321T163000Z
DTEND:20230321T183000Z
LOCATION:Minnehaha Country Club
UID:2354720230321T163000ZGiving Income Tax Considerations in Estate Planning the Respect They Deserve
DTSTAMP:20260423T141705Z
DESCRIPTION:\nThis event will be offered in person at the Minnehaha Country Club or virtually from your home/office. \n \nA buffet lunch will be served starting at 11:30 am. The webinar begins at noon.\n \n \n \nRegistration for in-person attendance will close at 5 pm on Thursday, March 16.  \n \n \nThe current tax and estate planning environment requires particular attention to income tax issues that arise in formulating an efficient and effective estate plan as well as in trust and estate administration. Estate planning professionals need to have expertise not only in designing a plan that can minimize trust-level income taxes and achieve estate tax-free basis step-up at a trust beneficiary’s death but also in the following areas, which will be covered in this teleconference:\n Benefits and detriments of grantor versus nongrantor trusts Miscellaneous income tax-related elections Costs subject to the two-percent floor under IRC § 67(e) State income tax considerations
SUMMARY:Giving Income Tax Considerations in Estate Planning the Respect They Deserve - Sioux Falls Estate Planning Council 
PRIORITY:3
BEGIN:VALARM
TRIGGER:PT18H
ACTION:DISPLAY
DESCRIPTION:Reminder
END:VALARM
END:VEVENT
END:VCALENDAR