BEGIN:VCALENDAR
PRODID:-//hacksw/handcal//NONSGML v1.0//EN
VERSION:2.0
METHOD:PUBLISH
BEGIN:VEVENT
DTSTART:20230919T163000Z
DTEND:20230919T183000Z
LOCATION:Minnehaha Country Club
UID:2355020230919T163000ZGift and Estate Tax Black Holes
DTSTAMP:20260422T095711Z
DESCRIPTION:\n \n \nThis event will be offered in person at the Minnehaha Country Club or virtually from your home/office. \n \nA buffet lunch will be served starting at 11:30 am. The webinar begins at noon.\n \n \n \nRegistration for in-person attendance will close at 5 pm on Thursday, September 14th. \n \n \n \nPlanning to avoid, or at least minimize, gift and estate taxes can be daunting. That statement has never been more true than it is in 2023. The IRS often challenges tax benefits claimed by taxpayers implementing new or revised estate planning techniques and strategies and sometimes even formulates new theories by which to undermine or eliminate more traditional tax planning approaches. This teleconference will focus on the following:\n Emerging problems with GRATs Step transaction and valuation nightmares Gift tax consequences of trust modifications, premature terminations and decanting Mismatch between gross estate inclusion and marital or charitable deduction amounts
SUMMARY:Gift and Estate Tax Black Holes - Sioux Falls Estate Planning Council 
PRIORITY:3
BEGIN:VALARM
TRIGGER:PT18H
ACTION:DISPLAY
DESCRIPTION:Reminder
END:VALARM
END:VEVENT
END:VCALENDAR