BEGIN:VCALENDAR
PRODID:-//hacksw/handcal//NONSGML v1.0//EN
VERSION:2.0
METHOD:PUBLISH
BEGIN:VEVENT
DTSTART:20230216T173000Z
DTEND:20230216T190000Z
LOCATION:Minnehaha Country Club
UID:2355320230216T173000ZCurrent Market Outlook Conditions
DTSTAMP:20260423T141227Z
DESCRIPTION:\nPlease join us for this presentation on the current market outlook by Linda Duessel with Federated Hermes.\n \n \n \nRegistration for in-person attendance will close at 5 pm on Friday, February 10th. \n \n \n \nAbout the Speaker:\n \nLinda Duessel, CFA, CPA, CFP®\n \nAs senior equity strategist, Linda Duessel is part of the team responsible for formulating Federated Hermes’ views about various equity market conditions and the firm’s positioning strategies. She is also responsible for articulating the strategy, process, positioning and performance of Federated Hermes’ equity portfolios. Linda has more than 35 years of investment experience.\n \nLinda has been a regular contributor to CNBC’s “Closing Bell” and other programs. In addition, she has appeared on Fox News “Your World With Neil Cavuto” and Bloomberg Television. Linda has been extensively quoted by Associated Press,\n The Wall Street Journal and Barron’s and has been featured in the annual roundtables for USA Today and Smart Money Magazine. Linda also discusses personal finance with investor groups across the country on topics of interest ranging from the impact of the alternative minimum tax to investing for retirement.\n \nLinda earned her master’s degree from Carnegie Mellon University and bachelor’s degree from Wharton School of the University of Pennsylvania. She is a CFA® charterholder, CPA and a CFP® professional.\n
SUMMARY:Current Market Outlook Conditions - Sioux Falls Estate Planning Council 
PRIORITY:3
BEGIN:VALARM
TRIGGER:PT18H
ACTION:DISPLAY
DESCRIPTION:Reminder
END:VALARM
END:VEVENT
END:VCALENDAR