BEGIN:VCALENDAR
PRODID:-//hacksw/handcal//NONSGML v1.0//EN
VERSION:2.0
METHOD:PUBLISH
BEGIN:VEVENT
DTSTART:20230518T163000Z
DTEND:20230518T180000Z
LOCATION:Minnehaha Country Club
UID:2355620230518T163000ZFederal Tax Update
DTSTAMP:20260423T141038Z
DESCRIPTION:\n \n \nMore information about the program will be posted soon.\n \n \n \nRegistration for in-person attendance will close at 5 pm on Friday, May 12th. \n \n \n \nAbout the Speaker:\n \nSamuel A. Donaldson,  J.D. LL.M.\n \nPrior to joining GSU Law in 2012, Professor Donaldson was on the faculty at the University of Washington School of Law in Seattle for 13 years. During his tenure at the University of Washington, he was a five-time recipient of the Philip A. Trautman Professor of the Year award from the School of Law's Student Bar Association. Professor Donaldson served for two years as Associate Dean for Academic Administration and for six years as the Director of the law school's Graduate Program in Taxation.\n \nProfessor Donaldson teaches a number of tax and estate planning courses, as well as courses in the areas of property, commercial law and professional responsibility. He is a nationally recognized speaker on federal taxation and estate planning at professional conferences and continuing education seminars.\n \nProfessor Donaldson is an Academic Fellow of the American College of Trust and Estate Counsel (ACTEC) and a member of the Bar in Washington, Oregon, and Arizona. Among his scholarly works, he is a co-author of the popular West casebook, Federal Income Tax: A Contemporary Approach, and a co-author of the Price on Contemporary Estate Planning treatise published by Wolters Kluwer.\n \nProfessor Donaldson has served as the Harry R. Horrow Visiting Professor of International Law at Northwestern University and a Visiting Assistant Professor at the University of Florida Levin College of Law.\n \nAn amateur crossword constructor, Professor Donaldson's puzzles have been published in The New York Times, The Washington Post, The Wall Street Journal, and other outlets.\n
SUMMARY:Federal Tax Update - Sioux Falls Estate Planning Council 
PRIORITY:3
BEGIN:VALARM
TRIGGER:PT18H
ACTION:DISPLAY
DESCRIPTION:Reminder
END:VALARM
END:VEVENT
END:VCALENDAR