BEGIN:VCALENDAR
PRODID:-//hacksw/handcal//NONSGML v1.0//EN
VERSION:2.0
METHOD:PUBLISH
BEGIN:VEVENT
DTSTART:20230523T163000Z
DTEND:20230523T180000Z
LOCATION:Minnehaha Country Club
UID:2405720230523T163000ZSecure Act 2.0
DTSTAMP:20260423T140623Z
DESCRIPTION:\n \n \nThis program will be a very high level overview of how Secure Act 2.0 is being addressed with the industry and focus on a handful of the most critical provisions.  The topics planned for inclusion are:  \n New Tax Credits Automatic Enrollment Long-term/ part-time employees Required Roth certain catch-up contributions Emergency savings accounts Simple plan mid-year termination \n \n \nRegistration for in-person attendance will close at 5 pm on Thursday, May 18th. \n \n  \n \n \n \nAbout our Speakers:\n \nDana Hagen, – Retirement LLC, President\CEO \n \nDana is the President of Retirement LLC with over 25 years’ experience in defined contribution and defined benefit qualified retirement plans. Retirement LLC has over 1,400 clients throughout the United States and is one of the nations few CEFEX certified TPA firms. \n \n \n \nF. Philip Gould – National Account Director - TPA\n \nPhilip Gould is a National Account Director for Empower. In his role, he helps create and maintain loyalty among top third-party administrators (TPAs) through ongoing business planning activities and works with local team to grow and develop TPA sales.\n \nPhilip joined the organization in 2022.  He has 25+ years experience in the retirement plan industry.  Philip has worked with several top tier recordkeepers allowing him to see our business from all sides: participant services and education, plan level relationship management, Trust and Custody, as well as recordkeeping and TPA sales.\n \nPhilip holds a Master of Business Administration (MBA) from the Wayland Baptist University.  He currently maintains the FINRA Series 7 securities registration, Series 63 state security license and NASAA Series 65 securities license.\n
SUMMARY:Secure Act 2.0 - Sioux Falls Estate Planning Council 
PRIORITY:3
BEGIN:VALARM
TRIGGER:PT18H
ACTION:DISPLAY
DESCRIPTION:Reminder
END:VALARM
END:VEVENT
END:VCALENDAR