BEGIN:VCALENDAR
PRODID:-//hacksw/handcal//NONSGML v1.0//EN
VERSION:2.0
METHOD:PUBLISH
BEGIN:VEVENT
DTSTART:20240418T163000Z
DTEND:20240418T180000Z
LOCATION:Minnehaha Country Club
UID:2438620240418T163000ZBlockchain & Digital Assets
DTSTAMP:20260423T141209Z
DESCRIPTION:\n \n \nThis event will be offered in person at the Minnehaha Country Club or virtually from your home/office. \n \nA buffet lunch will be served starting at 11:30 am. The webinar begins at noon.\n \n \n \nRegistration for in-person attendance will close at 5 pm on Thursday, April 11th. \n \n \n \nAbout the Speaker:\n \nChristina Lynn is a CERTIFIED FINANCIAL PLANNER™ professional, a Certified Divorce Financial Analyst® and an Accredited Financial Counselor®.\n \nChristina specializes in divorce finances, estate planning, digital assets and the psychology of financial planning. Her financial planning style can be described as comprehensive and evidence-based, with a focus on life planning and innovation.\n \nChristina holds a Ph.D. in personal financial planning from Kansas State University. Her research interests include behavioral finances, divorce finances and digital assets. She strives to incorporate her research skills and knowledge into her work in wealth management. Likewise, she utilizes her experience in financial planning to inform her academic research. She has been published in the Journal of Financial Planning and Counseling, as well as the Journal of Financial Planning.\n \nAway from the office, Christina enjoys spending time with family, adventure traveling, walking, reading, ballroom dancing and watching telenovelas.\n
SUMMARY:Blockchain & Digital Assets - Sioux Falls Estate Planning Council 
PRIORITY:3
BEGIN:VALARM
TRIGGER:PT18H
ACTION:DISPLAY
DESCRIPTION:Reminder
END:VALARM
END:VEVENT
END:VCALENDAR