BEGIN:VCALENDAR
PRODID:-//hacksw/handcal//NONSGML v1.0//EN
VERSION:2.0
METHOD:PUBLISH
BEGIN:VEVENT
DTSTART:20240509T210000Z
DTEND:20240509T230000Z
LOCATION:Minnehaha Country Club – Board Room
UID:2580020240509T210000ZSFEPC Networking Social
DTSTAMP:20260423T140739Z
DESCRIPTION:\n \n \nPlease join us for a fun SFEPC networking event!\n \n Thursday May 9, 2024\n \n4:00 – 6:00 pm\n \nMinnehaha Country Club – Board Room\n \n \n \nHor d'oeuvres & Beverages will be served\n \nPlease invite prospective council members to join us and learn more about our council.\n
SUMMARY:SFEPC Networking Social - Sioux Falls Estate Planning Council 
PRIORITY:3
BEGIN:VALARM
TRIGGER:PT18H
ACTION:DISPLAY
DESCRIPTION:Reminder
END:VALARM
END:VEVENT
END:VCALENDAR