BEGIN:VCALENDAR
PRODID:-//hacksw/handcal//NONSGML v1.0//EN
VERSION:2.0
METHOD:PUBLISH
BEGIN:VEVENT
DTSTART:20250320T163000Z
DTEND:20250320T180000Z
LOCATION:Minnehaha Country Club
UID:2605820250320T163000ZA View From the Hill
DTSTAMP:20260423T141227Z
DESCRIPTION:\n \n \nThis event will be offered in person at the Minnehaha Country Club or virtually from your home/office. \n \nA buffet lunch will be served starting at 11:30 am. The webinar begins at noon.\n \n \n \nRegistration for in-person attendance will close at 5 pm on Thursday, March 13th. \n \n \n \nAbout the Program\n \nMr. Hobson will discuss his insider perspectives on a wide range of current and potential governmental topics, including the latest developments under the new administration.\n \n \n \nAbout the Speaker\n  \n \nJulius W. Hobson, Jr., has nearly 50 years of experience dealing with the Congress and Federal departments and agencies. As Senior Policy Advisor at Polsinelli, he advises and lobbies on a number of issues including health care, appropriations and budget, education, financial services, urban affairs, and taxes. Mr. Hobson previously served over 13 years as lobbyist and Director of Congressional Affairs, American Medical Association.\n \nPrior to joining the AMA, Mr. Hobson served on the staff of Senator Charles Robb [D-VA] where he was responsible for appropriations, budget, taxes, and financial services issues. He previously served as Congressional and Executive Branch liaison for the District of Columbia Government, Executive Office of the Mayor. Mr. Hobson was Chief of Staff to a Member of Congress and Staff Director of a House Subcommittee. He also handled Congressional and Federal Affairs for Howard University. Mr. Hobson served a four-year term as an elected member of the D.C. Board of Education.\n \nCurrently, Mr. Hobson is Adjunct Professor, Graduate School of Political Management, George Washington University, where, since 1994, he has taught Lobbying.  He also teaches Legislative Writing and Research.  Mr. Hobson has taught Advanced Strategy Lobbying, Fundamentals of Political Management, Electoral and Legislative Processes. Mr. Hobson is a member of the D.C. Hospital Association Board of Directors.\n \nA Washington, D.C. native, Mr. Hobson is a graduate of Howard University (B.A., History) and the George Washington University (M.A., Legislative Affairs).\n
SUMMARY:A View From the Hill - Sioux Falls Estate Planning Council 
PRIORITY:3
BEGIN:VALARM
TRIGGER:PT18H
ACTION:DISPLAY
DESCRIPTION:Reminder
END:VALARM
END:VEVENT
END:VCALENDAR