BEGIN:VCALENDAR
PRODID:-//hacksw/handcal//NONSGML v1.0//EN
VERSION:2.0
METHOD:PUBLISH
BEGIN:VEVENT
DTSTART:20250318T163000Z
DTEND:20250318T183000Z
LOCATION:Minnehaha Country Club
UID:2738820250318T163000ZMathematics and Economics of Estate Planning
DTSTAMP:20260423T142001Z
DESCRIPTION:\nThis Cannon Teleconference will be only offered live in person at the Minnehaha Country Club. The recording will be posted in the SFEPC document library about a week after the event. CE will only be available for those attending the live event in person, unless the CE you're applying for allows credit for viewing recordings.\n \n \n \nA buffet lunch will be served starting at 11:30 am. The 90-minute webinar begins at noon.\n \n \n \nRegistration will close at 5 pm on Thursday, March 13th. \n \n \n \nWith the almost certainly impending sunset of many of the provisions enacted as part of the 2017 Tax Act, high net worth individuals and families should be considering sale, gift or loan transactions currently or in the immediate future. To distinguish ourselves and make clients comfortable with our recommendations, we need to have a thorough understanding of how to calculate the potential benefits of any proposed transaction and convincingly explain our recommendations to clients. The following scenarios will be discussed during this webinar:\n  \n Taking advantage of the historically high (for now) basic exclusion amount, including the benefits of portability The importance of life expectancy in determining the appropriate transaction Analysis of the benefit of a grantor’s paying the income tax incurred by a grantor trust Taking into consideration basis step-up when analyzing gifting alternatives
SUMMARY:Mathematics and Economics of Estate Planning - Sioux Falls Estate Planning Council 
PRIORITY:3
BEGIN:VALARM
TRIGGER:PT18H
ACTION:DISPLAY
DESCRIPTION:Reminder
END:VALARM
END:VEVENT
END:VCALENDAR