BEGIN:VCALENDAR
PRODID:-//hacksw/handcal//NONSGML v1.0//EN
VERSION:2.0
METHOD:PUBLISH
BEGIN:VEVENT
DTSTART:20251016T163000Z
DTEND:20251016T180000Z
LOCATION:Minnehaha Country Club
UID:2754620251016T163000ZReview of the Past Year’s Significant, Curious, or Downright Fascinating Fiduciary Cases
DTSTAMP:20260423T142641Z
DESCRIPTION:\n \n \nThis event will be offered in person at the Minnehaha Country Club or virtually from your home/office. \n \nA buffet lunch will be served starting at 11:30 am. The webinar begins at noon.\n \n \n \nRegistration for in-person attendance will close at 5 pm on Thursday, October 9th. \n \n \n \nAbout the Program:\n \nThis session will review selected reported fiduciary litigation decisions from 2024 that relate to multiple areas of estate planning, estate and trust administration, the fiduciary duties of agents, administrators, trustees, and other fiduciaries, related trial practice, and identifying and navigating contemporary fiduciary challenges.\n \n \n \nAbout the Speaker:\n \nMr. Fitzsimons is Managing Director and Senior Fiduciary Counsel at Bessemer Trust. In this role, he is responsible for working with clients and their advisors to develop practical and efficient wealth transfer plans, and for guiding the firm on fiduciary issues. He serves as Chair of the firm’s Fiduciary Counsel Committee and its Diminished Capacity Working Group.\n \nPrior to joining Bessemer, Dana was a partner with McGuireWoods LLP, where he practiced in the areas of fiduciary litigation and estate planning.\n \nHe is a Fellow of the American College of Trust & Estate Counsel (ACTEC) and serves on its Board of Regents and on its State Laws Subcommittee. He has been recognized in Chambers USA: America’s Leading Lawyers for Business, is a 2021 inductee into the NAEPC Association Estate Planning Hall of Fame and a member of The International Academy of Estate and Trust Law, and frequently lectures on fiduciary topics.\n \nDana earned a J.D. from William & Mary Law School, where he was a member of the law review and graduated Order of the Coif, and a B.A. in music from Ithaca College School of Music. He continues to actively perform and record as a jazz and rock drummer.\n
SUMMARY:Review of the Past Year’s Significant, Curious, or Downright Fascinating Fiduciary Cases - Sioux Falls Estate Planning Council 
PRIORITY:3
BEGIN:VALARM
TRIGGER:PT18H
ACTION:DISPLAY
DESCRIPTION:Reminder
END:VALARM
END:VEVENT
END:VCALENDAR