BEGIN:VCALENDAR
PRODID:-//hacksw/handcal//NONSGML v1.0//EN
VERSION:2.0
METHOD:PUBLISH
BEGIN:VEVENT
DTSTART:20251120T173000Z
DTEND:20251120T190000Z
LOCATION:Minnehaha Country Club
UID:2754820251120T173000ZCombining and Tiering Family & Charitable Goals in Estate Planning
DTSTAMP:20260423T140902Z
DESCRIPTION:\n \n \nThis event will be offered in person at the Minnehaha Country Club or virtually from your home/office. \n \nA buffet lunch will be served starting at 11:30 am. The webinar begins at noon.\n \n \n \nRegistration for in-person attendance will close at 5 pm on Thursday, November 13th. \n \n \n \nAbout the Program\n \nThe presentation opens with a review of the early 2000’s Grove/Prince study Round Hole/Square Peg findings of high-net worth clients opens the presentation, exploring the reasons clients give for not following-through with rather time-consuming and detailed estate plans. The salient takeaway is that wealthy individuals are not enthused about the plans that have been designed because little, to no effort was made to identify their values and translate them into a meaningful legacy. \n \nAnecdotally, many advisors report a new confidence in “going there” with their clients regarding this issue-area interests, resulting in the development of dynamic and exciting results, including less client-procrastination, and even referrals. \n \nSo, what is meant by “Tiering” of Family and Philanthropic Goals? The magic of advanced charitable gift planning is discovering ways people can make dramatic, impactful charitable gifts without necessarily reducing what they intend for their heirs. Using attorney and planned giving pioneer Charles Schultz’ popular concept of “A Right Inheritance”, this presentation explores just how to do so. First, the audience is led through an easy donor exercise of identifying three tiers of “right inheritances” for heirs: 1) Initial Inheritance; 2) Additional Lifestyle; and 3) Supplemental/Future Inheritance. Then Marc explores how to combine these inheritance goals with a similar “tiering” of philanthropic ones.\n \n \n \nAbout the Speaker\n \nMarc Littlecott is the Director of Estate and Planned Giving for the University of Mississippi (Ole Miss), where he has been on staff since 2022. A Chartered Advisor in Philanthropy®, he has worked as a specialist in the field of planned giving since 1999, including 14 years with The Salvation Army and 8 years at South Dakota State University. He was the Secretary & Treasurer of the Charitable IRA Initiative, which lobbied for passage of the Charitable IRA Rollover and its expansion for split-interest gifts,, which was recently enacted by the Federal government in 2022 under the SECURE ACT 2.0. He presently serves on the editorial board of the industry’s main periodical, Planned Giving Today. After graduating from the Virginia Military Institute, Marc served as a commissioned Army officer before working in the nonprofit field. \n
SUMMARY:Combining and Tiering Family & Charitable Goals in Estate Planning - Sioux Falls Estate Planning Council 
PRIORITY:3
BEGIN:VALARM
TRIGGER:PT18H
ACTION:DISPLAY
DESCRIPTION:Reminder
END:VALARM
END:VEVENT
END:VCALENDAR