BEGIN:VCALENDAR
PRODID:-//hacksw/handcal//NONSGML v1.0//EN
VERSION:2.0
METHOD:PUBLISH
BEGIN:VEVENT
DTSTART:20250508T210000Z
DTEND:20250508T230000Z
LOCATION:Minnehaha Country Club – Board Room
UID:2764820250508T210000ZSFEPC Networking Social
DTSTAMP:20260423T142919Z
DESCRIPTION:\n \n \nYou won't want to miss this SFEPC networking event!\n \n \n \n \n \nAttendees will be entered into TWO outstanding drawings!\n \nFirst, TWO people will be selected to win trips to the NAEPC Conference in Washington, D.C., October 19-23, 2025. The council will cover the registration, flight, & hotel for each winner.\n \n \n \nSecond, one person will win a copy of Amy Florian's books:  No Longer Awkward and  Compassionate Communications. Amy was the April presenter at SFEPC and donated a copy of each to the council.\n \n \n \n Thursday May 8, 2025\n \n4:00 – 6:00 pm\n \nMinnehaha Country Club – Board Room\n \n \n \nHor d'oeuvres & Beverages will be served\n \nPlease invite prospective council members to join us and learn more about our council.\n
SUMMARY:SFEPC Networking Social - Sioux Falls Estate Planning Council 
PRIORITY:3
BEGIN:VALARM
TRIGGER:PT18H
ACTION:DISPLAY
DESCRIPTION:Reminder
END:VALARM
END:VEVENT
END:VCALENDAR