BEGIN:VCALENDAR
PRODID:-//hacksw/handcal//NONSGML v1.0//EN
VERSION:2.0
METHOD:PUBLISH
BEGIN:VEVENT
DTSTART:20260519T163000Z
DTEND:20260519T183000Z
LOCATION:Minnehaha Country Club
UID:2878520260519T163000ZTrust Administration Challenges Faced by 21st Century Trustees
DTSTAMP:20260423T082104Z
DESCRIPTION:\nThis Cannon Teleconference will be only offered live in person at the Minnehaha Country Club. The recording will be posted in the SFEPC document library about a week after the event. CE will only be available for those attending the live event in person, unless the CE you're applying for allows credit for viewing recordings.\n \n \n \nA buffet lunch will be served starting at 11:30 am. The 90-minute webinar begins at noon.\n \n \n \nRegistration will close at 5 pm on Thursday, May 14th. \n \n \n \nTrust instruments contain provisions conferring investment and distribution discretion on the Trustee and defining the extent of that discretion. The Trustee interpreting and implementing the trust instrument must engage in a delicate balancing of the intentions of the settlor and the current and anticipated future circumstances of the beneficiaries.\n
SUMMARY:Trust Administration Challenges Faced by 21st Century Trustees - Sioux Falls Estate Planning Council 
PRIORITY:3
BEGIN:VALARM
TRIGGER:PT18H
ACTION:DISPLAY
DESCRIPTION:Reminder
END:VALARM
END:VEVENT
END:VCALENDAR