BEGIN:VCALENDAR
PRODID:-//hacksw/handcal//NONSGML v1.0//EN
VERSION:2.0
METHOD:PUBLISH
BEGIN:VEVENT
DTSTART:20260623T163000Z
DTEND:20260623T183000Z
LOCATION:Minnehaha Country Club
UID:2878620260623T163000ZEstate Planning and Administration Professionals in the Dock (Ethics CE)
DTSTAMP:20260423T110303Z
DESCRIPTION:\nThis Cannon Teleconference will be only offered live in person at the Minnehaha Country Club. The recording will be posted in the SFEPC document library about a week after the event. CE will only be available for those attending the live event in person, unless the CE you're applying for allows credit for viewing recordings.\n \n \n \nA buffet lunch will be served starting at 11:30 am. The 90-minute webinar begins at noon.\n \n \n \nRegistration will close at 5 pm on Thursday, June 18th.\n \n \n \nThis session qualifies for an ethics credit for those who need that credit.\n \n \n \nThe world of estate planning and trust administration is fraught with a variety of landmines, and only the diligent can detect and avoid them consistently. An estate planning professional’s behavior and performance may be judged unethical or even illegal in a given circumstance even if he or she is exceptionally knowledgeable about the substantive law.\n
SUMMARY:Estate Planning and Administration Professionals in the Dock (Ethics CE) - Sioux Falls Estate Planning Council 
PRIORITY:3
BEGIN:VALARM
TRIGGER:PT18H
ACTION:DISPLAY
DESCRIPTION:Reminder
END:VALARM
END:VEVENT
END:VCALENDAR