BEGIN:VCALENDAR
PRODID:-//hacksw/handcal//NONSGML v1.0//EN
VERSION:2.0
METHOD:PUBLISH
BEGIN:VEVENT
DTSTART:20261117T173000Z
DTEND:20261117T193000Z
LOCATION:Minnehaha Country Club
UID:2878820261117T173000ZQualified Retirement Plans and IRAs – Planning Under SECURE 2.0 Act of 2022 and 2024 Final Regulations
DTSTAMP:20260423T122752Z
DESCRIPTION:\nThis Cannon Teleconference will be only offered live in person at the Minnehaha Country Club. The recording will be posted in the SFEPC document library about a week after the event. CE will only be available for those attending the live event in person, unless the CE you're applying for allows credit for viewing recordings.\n \n \n \nA buffet lunch will be served starting at 11:30 am. The 90-minute webinar begins at noon.\n \n \n \nRegistration will close at 5 pm on Thursday, November 12th.\n \n \n \nMany of our clients have sizable accumulations in qualified retirement plans and IRAs. This is a unique type of asset that presents potential opportunities and difficulties in the estate planning context. The ultimate beneficial objective is to maintain as much of the plan or IRA intact for as long as possible – in order to maximize income tax-deferred investment return – while preserving as much dispositive flexibility as possible. This quest is often elusive.\n
SUMMARY:Qualified Retirement Plans and IRAs – Planning Under SECURE 2.0 Act of 2022 and 2024 Final Regulations - Sioux Falls Estate Planning Council 
PRIORITY:3
BEGIN:VALARM
TRIGGER:PT18H
ACTION:DISPLAY
DESCRIPTION:Reminder
END:VALARM
END:VEVENT
END:VCALENDAR